BEGIN:VCALENDAR
VERSION:2.0
PRODID:-//Amsterdam Film School - ECPv5.1.2.1//NONSGML v1.0//EN
CALSCALE:GREGORIAN
METHOD:PUBLISH
X-WR-CALNAME:Amsterdam Film School
X-ORIGINAL-URL:https://amsterdamfilmschool.eu
X-WR-CALDESC:Evenementen voor Amsterdam Film School
BEGIN:VTIMEZONE
TZID:Europe/Amsterdam
BEGIN:DAYLIGHT
TZOFFSETFROM:+0100
TZOFFSETTO:+0200
TZNAME:CEST
DTSTART:20200329T010000
END:DAYLIGHT
BEGIN:STANDARD
TZOFFSETFROM:+0200
TZOFFSETTO:+0100
TZNAME:CET
DTSTART:20201025T010000
END:STANDARD
END:VTIMEZONE
BEGIN:VEVENT
DTSTART;TZID=Europe/Amsterdam:20200803T103000
DTEND;TZID=Europe/Amsterdam:20200803T150000
DTSTAMP:20260421T185540
CREATED:20200619T110856Z
LAST-MODIFIED:20200619T110856Z
UID:59715-1596450600-1596466800@amsterdamfilmschool.eu
SUMMARY:Speed Course Filmmaken - 1 week
DESCRIPTION:
URL:https://amsterdamfilmschool.eu/event/speed-course-filmmaken-1-week-2/
CATEGORIES:SCF_NL
END:VEVENT
END:VCALENDAR